BEGIN:VCALENDAR
VERSION:2.0
PRODID:-//Mid-Chilterns CAMRA - ECPv6.15.20//NONSGML v1.0//EN
CALSCALE:GREGORIAN
METHOD:PUBLISH
X-WR-CALNAME:Mid-Chilterns CAMRA
X-ORIGINAL-URL:https://midchilterns.camra.org.uk
X-WR-CALDESC:Events for Mid-Chilterns CAMRA
REFRESH-INTERVAL;VALUE=DURATION:PT1H
X-Robots-Tag:noindex
X-PUBLISHED-TTL:PT1H
BEGIN:VTIMEZONE
TZID:UTC
BEGIN:STANDARD
TZOFFSETFROM:+0000
TZOFFSETTO:+0000
TZNAME:UTC
DTSTART:20240101T000000
END:STANDARD
END:VTIMEZONE
BEGIN:VEVENT
DTSTART;TZID=UTC:20260107T200000
DTEND;TZID=UTC:20260107T220000
DTSTAMP:20260422T224809
CREATED:20251208T202036Z
LAST-MODIFIED:20260208T104211Z
UID:4519-1767816000-1767823200@midchilterns.camra.org.uk
SUMMARY:Branch Meeting - report attached
DESCRIPTION:Summary of Mid Chilterns CAMRA Branch Meeting – 7 January 2026 \n1. Attendance & Administration \n\nMeeting held at The Stag\, Mentmore.\nChaired by Jared Ward‑Brickett.\nApologies from several members.\nNo matters arising from previous minutes.\nDeclaration: Jared is an employee of Tring Brewery.\n\n  \n2. Branch Accounts \n\nBank balance: £2\,029\nDebtors: £754 (mainly Autumn Tapler)\nExpected income: £808 (Winter Tapler)\nPotential balance: £3\,591\nDiscussion on improving advertising payment processes and possibly giving the Treasurer an understudy.\nAction: Jared to discuss with Charles.\n\n  \n3. Membership \n\nNet change: –2 members since last meeting; –16 over the year.\nCurrent branch membership: 642.\nNational CAMRA membership: 142\,500\, down 538.\nConcern that the loss of both Great British Beer Festivals will impact recruitment.\n\n  \n4. Brewery Liaison Officer (BLO) Reports \nTring Brewery \n\nSeasonal beer: Going Loco (3.9% bitter).\n2026 charity: Berkhamsted & District Community First Responders.\nPlanned charity‑themed beers include Ambrewlance\, Resus Red\, Skeleton Session\, Shock Horror\, The Holly & the I.V.\n2025 charity total exceeded £8\,000.\n\nMad Squirrel \n\nNo formal report; mention of their 11.6% anniversary stout.\n\nPope’s Yard \n\nNo report.\n\n  \n5. Tapler Magazine \n\nVery positive reception; wider distribution than ever.\nRichard now in contact with national beer writers including Laura Hadland and Christine Cryne.\nNew Instaprint account manager following the death of previous contact.\nSpring Tapler planned for early March.\n\n  \n6. Good Beer Guide 2027 Selection \n\nAllocations: 6 pubs for Buckinghamshire\, 8 for Hertfordshire\, plus reserves.\nDiscussion on scoring reliability and the impact of small numbers of scorers.\nSix‑month rule removed except for new venues.\nPlan to provide pubs with a QR link to NBSS; to be progressed by the Webmaster.\n\n  \n7. Locale & Pubwatch \n\nNo changes or reports.\n\n  \n8. Socials \n\nFitzrovia Trail in December was a success.\nLeighton Buzzard Trail planned (date TBC).\nAndy shared beer trail leaflets and suggested joint socials.\n\n  \n9. Beer Festival \n\nWash‑up meeting date still to be arranged.\n\n  \n10. AOB \n\nJared updating website; Jon asked about engagement.\nAction: Jared and Jon to coordinate on website matters.\nAndy joined the Herts Liaison Group and distributed trail materials.\n\n  \n11. Next Meeting \n\nWednesday 4 February\, 8pm\, at The Grand Junction Arms\, Bulbourne.\nAction: Richard to book venue.
URL:https://midchilterns.camra.org.uk/calendar/branch-meeting/
LOCATION:The Stag Inn\, 7 The Green\, Mentmore\, LU7 0QF\, United Kingdom
END:VEVENT
BEGIN:VEVENT
DTSTART;TZID=UTC:20251213T120000
DTEND;TZID=UTC:20251213T170000
DTSTAMP:20260422T224809
CREATED:20251208T191834Z
LAST-MODIFIED:20251208T191834Z
UID:4513-1765627200-1765645200@midchilterns.camra.org.uk
SUMMARY:Informal social - The Piggeries\, Tring Brewery
DESCRIPTION:Pre-Christmas informal get-together at the Tring Brewery.
URL:https://midchilterns.camra.org.uk/calendar/informal-social-the-piggeries-tring-brewery/
LOCATION:Tring Brewery\, Dunsley Farm\, London Road\, Tring\, Hertfordshire\, HP23 6HA\, United Kingdom
END:VEVENT
BEGIN:VEVENT
DTSTART;TZID=UTC:20251208T000000
DTEND;TZID=UTC:20251208T000000
DTSTAMP:20260422T224809
CREATED:20251208T193837Z
LAST-MODIFIED:20251208T193837Z
UID:4517-1765152000-1765152000@midchilterns.camra.org.uk
SUMMARY:Cambridge Winter Beer Festival
DESCRIPTION:
URL:https://midchilterns.camra.org.uk/calendar/cambridge-winter-beer-festival/
END:VEVENT
BEGIN:VEVENT
DTSTART;TZID=UTC:20250312T200000
DTEND;TZID=UTC:20250312T220000
DTSTAMP:20260422T224809
CREATED:20250207T184102Z
LAST-MODIFIED:20250207T184418Z
UID:4127-1741809600-1741816800@midchilterns.camra.org.uk
SUMMARY:Committee meeting (committee only!)
DESCRIPTION:Our March meeting will be at 8pm on Wednesday 12th at the Crown and Sceptre\, Bridens Camp. *Please note that this meeting is reserved for committee only\, as these are our important commendations that are not made available to the public/wider-branch until official communications have been finalised.
URL:https://midchilterns.camra.org.uk/calendar/committee-meeting-committee-only-2/
LOCATION:Crown and Sceptre\, Red Lion Hill\, Bridens Camp\, Hemel Hempstead\, Hertfordshire\, HP2 6EY\, United Kingdom
END:VEVENT
BEGIN:VEVENT
DTSTART;TZID=UTC:20250205T200000
DTEND;TZID=UTC:20250205T220000
DTSTAMP:20260422T224809
CREATED:20250129T180640Z
LAST-MODIFIED:20250129T180640Z
UID:4090-1738785600-1738792800@midchilterns.camra.org.uk
SUMMARY:Committee meeting (committee only!)
DESCRIPTION:Our February meeting will be at 8pm on Wednesday 5th\, held at the Red Lion in Chenies. *Please be aware\, both this meeting and our March meeting are reserved for committee only\, as these are our important commendations that are not made public/wider-branch knowledge until official communications have been finalised.
URL:https://midchilterns.camra.org.uk/calendar/committee-meeting-committee-only/
LOCATION:Red Lion\, Chenies\, Village Road\, Chenies\, Rickmansworth\, WD3 6ED\, United Kingdom
END:VEVENT
END:VCALENDAR