BEGIN:VCALENDAR
VERSION:2.0
PRODID:-//Mid-Chilterns CAMRA - ECPv6.15.20//NONSGML v1.0//EN
CALSCALE:GREGORIAN
METHOD:PUBLISH
X-ORIGINAL-URL:https://midchilterns.camra.org.uk
X-WR-CALDESC:Events for Mid-Chilterns CAMRA
REFRESH-INTERVAL;VALUE=DURATION:PT1H
X-Robots-Tag:noindex
X-PUBLISHED-TTL:PT1H
BEGIN:VTIMEZONE
TZID:UTC
BEGIN:STANDARD
TZOFFSETFROM:+0000
TZOFFSETTO:+0000
TZNAME:UTC
DTSTART:20250101T000000
END:STANDARD
END:VTIMEZONE
BEGIN:VEVENT
DTSTART;TZID=UTC:20260408T200000
DTEND;TZID=UTC:20260408T220000
DTSTAMP:20260423T074705
CREATED:20260203T173240Z
LAST-MODIFIED:20260423T074149Z
UID:4546-1775678400-1775685600@midchilterns.camra.org.uk
SUMMARY:Branch Meeting - report attached
DESCRIPTION:MID CHILTERNS CAMRA – BRANCH MEETING SUMMARY\nVenue: The Three Blackbirds\, Flamstead Date: 8 April 2026 • Time: 8pm \n\nATTENDANCE\nPresent: William Powell (Chair)\, Amanda Harvell\, Andy Harvell\, Charles Teuma\, Nigel Harris\, Richard Healey\, Alan Tuff\, Richard Abraham (Minutes). Apologies: Jared Ward‑Brickett\, Jon Humphries. \n\nDECLARATIONS OF INTEREST\n\nJared Ward‑Brickett – employee of Tring Brewery.\n\n\nMINUTES & MATTERS ARISING\n\nOnly matter arising: certificate frames for Pubs of the Year now sourced and with Jared. Quote: “Richard H had sourced them\, and they were now with Jared.”\n\n\nBRANCH ACCOUNTS\nOverall Position\n\nBank balance: £10\,015.00.\n\nMid Chilterns Ledger\n\nLedger: £2\,903.00\nLess £500.00 set aside for 2025 Festival First Aid → £2\,403.00\n£1\,500.00 surplus to Head Office approved unanimously.\nRemaining funds: £903.00\nExpected advert income: £850.00 → Potential total: £1\,753.00\n\nHemel Old Town Beer Festival Ledger\n\nBalance: £7\,112.00\nBased on: HO loan £10\,200.00 minus costs (TEN £21.00; glasses £2\,419.00; toilets £648.00). Quote: “A slight increase for the 1150 glasses.”\n\nAdvertising\n\nSpring Tapler invoices: £1\,090.00 (paid £240.00; £850.00 due).\nOne unpaid invoice (£72.00) written off unanimously.\n\nThanks\n\nVote of thanks to Charles for his work on accounts and advertising.\n\n\nMEMBERSHIP\n\n5 new members; 11 lapsed; total now 625.\nNational CAMRA membership: 141\,205 (down 563).\nConcern noted about reduced recruitment due to loss of national festivals.\n\n\nBREWERY LIAISON REPORTS\nTring Brewery\n\nMonthly special: Thirst Responder (3.9% APA\, Eldorado & Chinook).\nPiggeries hosting first Pint & Paint night (23 April\, £30 incl. materials + pint). Quote: “Paint their own ‘oil painting of a pint of ale’ on a pint mat.”\n\nMad Squirrel\n\nNew equipment including in‑house cask washer and two large fermenters.\nLogo rebrand to a “top half mask type face”.\nCask: ‘Citrik’ replacing ‘Big C’; new seasonal Legally Blonde (4.1%).\nKeg: ‘Pomelo’ 4.2%; ‘Sappy’ 6.6% WCIPA; new Techno 5% NEIPA.\nCans: ‘Fog Off’ 6% now in M&S; ‘Mosaic’ 6.2% now in Sainsbury’s.\nExpanded presence at football clubs and beer shops; Amersham shop performing best.\n\nPope’s Yard\n\nSite still used for filming.\nPlanning a stout; request received to brew Abbey Flyer again.\n\n\nTAPLER\n\nSpring edition delayed due to printer system change and a corrupted file.\nOption to pay ~£80 for faster turnaround to be reviewed before next edition (target early June).\n\n\nLOCALE\n\nNo changes since March.\n\n\nPUBWATCH\n\nRoadworks affecting trade at The Crown (Little Missenden) and The Three Blackbirds (Boxmoor).\nBlack Horse\, Chesham Vale: planning to reopen; breakfasts/coffee only initially.\nBridgewater Arms (Little Gaddesden): Greene King placing pub on market; flats above complicate sale.\nBlack Lion (Leighton Buzzard): barn reopened after major refurbishment.\nRose & Crown (Ivinghoe): new tenant Paul Wilkinson; menu changes expected.\nEagle (Amersham): moving to managed house model.\nOld Bellgate (Hemel): reopened; no cask ale yet.\nGrand Junction Arms (Bulbourne): manager has left; replacement sought.\n\n\nFESTIVALS\n\nLeverstock Green CC planning 8–10 cask festival (2–4 Oct); Charles liaising.\nProposal for Old Town Market stall to promote Branch festival and sell advance tickets.\nDalling (Kings Langley) offering to supply Prosecco for Fizz Bar.\nSuggestion to prioritise beers that sold out last year and the beer of the festival; seek advice from Jared and Tony Hosier.\n\n\nSOCIALS\nNext Social\n\nSaturday 23 May – Berkhamsted canal pubs Route: Crystal Palace → The Boat → Rising Sun → The Bull → Mad Squirrel Beer Shop → others on High Street.\n\nFuture Ideas\n\nWendover\, Marlow.\nThree Blackbirds (Boxmoor) minibus trip to Vale Brewery on 16 May.\n\n\nAOB\n\nPub of the Year announcements well received and covered by local media.\nRegion recruiting for new Regional Director.\nCAMRA National AGM during Members Conference\, St Albans\, 17–19 April.\n\n\nNEXT MEETING\nWednesday 6 May\, 8pm – The Red Lion\, Chenies
URL:https://midchilterns.camra.org.uk/calendar/branch-meeting-4/
LOCATION:The Three Blackbirds\, 2 High Street\, Flamstead\, Hertfordshire\, AL3 8BS\, United Kingdom
END:VEVENT
BEGIN:VEVENT
DTSTART;VALUE=DATE:20260417
DTEND;VALUE=DATE:20260420
DTSTAMP:20260423T074705
CREATED:20260313T105201Z
LAST-MODIFIED:20260313T105201Z
UID:4589-1776384000-1776643199@midchilterns.camra.org.uk
SUMMARY:CAMRA Members' Weekend - St Albans 2026
DESCRIPTION:A city wide (long) weekend of events celebrating beer in CAMRA’s birthplace. \nSee website for all the details.
URL:https://midchilterns.camra.org.uk/calendar/camra-members-weekend-st-albans-2026/
END:VEVENT
BEGIN:VEVENT
DTSTART;TZID=UTC:20260506T200000
DTEND;TZID=UTC:20260506T220000
DTSTAMP:20260423T074705
CREATED:20260203T173418Z
LAST-MODIFIED:20260203T173418Z
UID:4551-1778097600-1778104800@midchilterns.camra.org.uk
SUMMARY:Branch Meeting
DESCRIPTION:
URL:https://midchilterns.camra.org.uk/calendar/branch-meeting-5/
LOCATION:Red Lion\, Chenies\, Village Road\, Chenies\, Rickmansworth\, WD3 6ED\, United Kingdom
END:VEVENT
BEGIN:VEVENT
DTSTART;TZID=UTC:20260603T200000
DTEND;TZID=UTC:20260603T220000
DTSTAMP:20260423T074705
CREATED:20260203T173654Z
LAST-MODIFIED:20260203T173654Z
UID:4553-1780516800-1780524000@midchilterns.camra.org.uk
SUMMARY:Branch Meeting
DESCRIPTION:
URL:https://midchilterns.camra.org.uk/calendar/branch-meeting-6/
LOCATION:The Bull\, 10 High Street\, Berkhamsted\, Hertfordshire\, HP4 2BS\, United Kingdom
END:VEVENT
BEGIN:VEVENT
DTSTART;TZID=UTC:20260701T200000
DTEND;TZID=UTC:20260701T220000
DTSTAMP:20260423T074705
CREATED:20260203T173953Z
LAST-MODIFIED:20260203T173953Z
UID:4556-1782936000-1782943200@midchilterns.camra.org.uk
SUMMARY:Branch Meeting
DESCRIPTION:
URL:https://midchilterns.camra.org.uk/calendar/branch-meeting-7/
LOCATION:The White Lion\, White Lion Road\, Amersham\, HP7 8LJ\, United Kingdom
END:VEVENT
BEGIN:VEVENT
DTSTART;VALUE=DATE:20260717
DTEND;VALUE=DATE:20260720
DTSTAMP:20260423T074705
CREATED:20260203T174318Z
LAST-MODIFIED:20260313T105312Z
UID:4560-1784246400-1784505599@midchilterns.camra.org.uk
SUMMARY:Hemel Old Town Beer Festival
DESCRIPTION:
URL:https://midchilterns.camra.org.uk/calendar/hemel-old-town-beer-festival/
LOCATION:St Mary’s\, High Street\, Hemel Hempstead\, Hertfordshire\, HP1 3AE\, United Kingdom
END:VEVENT
END:VCALENDAR