BEGIN:VCALENDAR
VERSION:2.0
PRODID:-//Mid-Chilterns CAMRA - ECPv6.15.20//NONSGML v1.0//EN
CALSCALE:GREGORIAN
METHOD:PUBLISH
X-WR-CALNAME:Mid-Chilterns CAMRA
X-ORIGINAL-URL:https://midchilterns.camra.org.uk
X-WR-CALDESC:Events for Mid-Chilterns CAMRA
REFRESH-INTERVAL;VALUE=DURATION:PT1H
X-Robots-Tag:noindex
X-PUBLISHED-TTL:PT1H
BEGIN:VTIMEZONE
TZID:UTC
BEGIN:STANDARD
TZOFFSETFROM:+0000
TZOFFSETTO:+0000
TZNAME:UTC
DTSTART:20250101T000000
END:STANDARD
END:VTIMEZONE
BEGIN:VEVENT
DTSTART;TZID=UTC:20260603T200000
DTEND;TZID=UTC:20260603T220000
DTSTAMP:20260422T192217
CREATED:20260203T173654Z
LAST-MODIFIED:20260203T173654Z
UID:4553-1780516800-1780524000@midchilterns.camra.org.uk
SUMMARY:Branch Meeting
DESCRIPTION:
URL:https://midchilterns.camra.org.uk/calendar/branch-meeting-6/
LOCATION:The Bull\, 10 High Street\, Berkhamsted\, Hertfordshire\, HP4 2BS\, United Kingdom
END:VEVENT
END:VCALENDAR